BEGIN:VCALENDAR
PRODID:-//eluceo/ical//2.0/EN
VERSION:2.0
CALSCALE:GREGORIAN
BEGIN:VEVENT
UID:c038d532ea6c0ca160e59056f5da06f2
DTSTAMP:20260420T193147Z
SUMMARY:Vollmond-Apéro
DESCRIPTION:Webbplats: http://www.wallberg.ch
URL:https://rotaryvolketswil.ch/sv/agenda/show/211083
DTSTART;TZID=Europe/Zurich:20260501T180000
DTEND;TZID=Europe/Zurich:20260501T190000
LOCATION:Parkhotel Wallberg\, Eichholzstrasse 1\, 8604 Volketswil
CATEGORIES:Rotary
END:VEVENT
BEGIN:VTIMEZONE
TZID:Europe/Zurich
BEGIN:DAYLIGHT
DTSTART:20260501T180000
TZNAME:CEST
TZOFFSETTO:+0200
TZOFFSETFROM:+0200
END:DAYLIGHT
END:VTIMEZONE
END:VCALENDAR
