BEGIN:VCALENDAR
PRODID:-//eluceo/ical//2.0/EN
VERSION:2.0
CALSCALE:GREGORIAN
BEGIN:VEVENT
UID:feb36744882e70a800239f0cea6ff06c
DTSTAMP:20260424T143139Z
SUMMARY:Amtsübergabe
DESCRIPTION:Webbplats: http://www.wallberg.ch
URL:https://rotaryvolketswil.ch/sv/agenda/show/159394
DTSTART;TZID=Europe/Zurich:20230629T114500
DTEND;TZID=Europe/Zurich:20230629T134500
LOCATION:Parkhotel Wallberg\, Eichholzstrasse 1\, 8604 Volketswil
CATEGORIES:Rotary
END:VEVENT
BEGIN:VTIMEZONE
TZID:Europe/Zurich
BEGIN:DAYLIGHT
DTSTART:20230629T114500
TZNAME:CEST
TZOFFSETTO:+0200
TZOFFSETFROM:+0200
END:DAYLIGHT
END:VTIMEZONE
END:VCALENDAR
