BEGIN:VCALENDAR
PRODID:-//eluceo/ical//2.0/EN
VERSION:2.0
CALSCALE:GREGORIAN
BEGIN:VEVENT
UID:0e38720f46faa4295bab5e9fda9adb6a
DTSTAMP:20260422T150918Z
SUMMARY:Seine Geräte sichern den gesamten Schweizer Zahlungsverkehr.
DESCRIPTION:Website: http://www.wallberg.ch\nSprekers: Dr. Robert Rogenmose
 r\, securosys sa
URL:https://rotaryvolketswil.ch/nl/agenda/show/202390
DTSTART;TZID=Europe/Zurich:20251030T114500
DTEND;TZID=Europe/Zurich:20251030T133000
LOCATION:Parkhotel Wallberg\, Eichholzstrasse 1\, 8604 Volketswil
CATEGORIES:Rotary
END:VEVENT
BEGIN:VTIMEZONE
TZID:Europe/Zurich
BEGIN:STANDARD
DTSTART:20251030T114500
TZNAME:CET
TZOFFSETTO:+0100
TZOFFSETFROM:+0100
END:STANDARD
END:VTIMEZONE
END:VCALENDAR
