BEGIN:VCALENDAR
PRODID:-//eluceo/ical//2.0/EN
VERSION:2.0
CALSCALE:GREGORIAN
BEGIN:VEVENT
UID:389ecce7ef7d175fd2e22ccb63a5afef
DTSTAMP:20260423T002847Z
SUMMARY:Vollmond-Apéro im Parkhotel Wallberg\, Volketswil
DESCRIPTION:Sito web: http://www.wallberg.ch
URL:https://rotaryvolketswil.ch/it/agenda/show/163665
DTSTART;TZID=Europe/Zurich:20231028T180000
DTEND;TZID=Europe/Zurich:20231028T193000
LOCATION:Parkhotel Wallberg\, Eichholzstrasse 1\, 8604 Volketswil
CATEGORIES:Rotary
END:VEVENT
BEGIN:VTIMEZONE
TZID:Europe/Zurich
BEGIN:DAYLIGHT
DTSTART:20231028T180000
TZNAME:CEST
TZOFFSETTO:+0200
TZOFFSETFROM:+0200
END:DAYLIGHT
END:VTIMEZONE
END:VCALENDAR
