BEGIN:VCALENDAR
PRODID:-//eluceo/ical//2.0/EN
VERSION:2.0
CALSCALE:GREGORIAN
BEGIN:VEVENT
UID:6b798ce1e0a63e678b7e5d1c017d18b4
DTSTAMP:20260421T171304Z
SUMMARY:Lunch und Mitgliederversammlung
DESCRIPTION:Sito web: http://www.wallberg.ch
URL:https://rotaryvolketswil.ch/it/agenda/show/160159
DTSTART;TZID=Europe/Zurich:20231130T114500
DTEND;TZID=Europe/Zurich:20231130T133000
LOCATION:Parkhotel Wallberg\, Eichholzstrasse 1\, 8604 Volketswil
CATEGORIES:Rotary
END:VEVENT
BEGIN:VTIMEZONE
TZID:Europe/Zurich
BEGIN:STANDARD
DTSTART:20231130T114500
TZNAME:CET
TZOFFSETTO:+0100
TZOFFSETFROM:+0100
END:STANDARD
END:VTIMEZONE
END:VCALENDAR
