BEGIN:VCALENDAR
PRODID:-//eluceo/ical//2.0/EN
VERSION:2.0
CALSCALE:GREGORIAN
BEGIN:VEVENT
UID:7133d8b51ac51bb576c36d46fd220edb
DTSTAMP:20260421T171509Z
SUMMARY:Kein Vollmond-Apéro
DESCRIPTION:Sito web: http://www.wallberg.ch\nRelatore/i: 
URL:https://rotaryvolketswil.ch/it/agenda/show/157998
DTSTART;TZID=Europe/Zurich:20231227T180000
DTEND;TZID=Europe/Zurich:20231227T200000
LOCATION:Parkhotel Wallberg\, Eichholzstrasse 1\, 8604 Volketswil
CATEGORIES:Rotary
END:VEVENT
BEGIN:VTIMEZONE
TZID:Europe/Zurich
BEGIN:STANDARD
DTSTART:20231227T180000
TZNAME:CET
TZOFFSETTO:+0100
TZOFFSETFROM:+0100
END:STANDARD
END:VTIMEZONE
END:VCALENDAR
