BEGIN:VCALENDAR
PRODID:-//eluceo/ical//2.0/EN
VERSION:2.0
CALSCALE:GREGORIAN
BEGIN:VEVENT
UID:e6777ff047f8bd2540e0c56d6b6ecd0b
DTSTAMP:20260419T180313Z
SUMMARY:Plauderlunch vom 25. April 2024
DESCRIPTION:Site internet: http://www.wallberg.ch
URL:https://rotaryvolketswil.ch/fr/agenda/show/176127
DTSTART;TZID=Europe/Zurich:20240425T114500
DTEND;TZID=Europe/Zurich:20240425T133000
LOCATION:Parkhotel Wallberg\, Eichholzstrasse 1\, 8604 Volketswil
CATEGORIES:Rotary
END:VEVENT
BEGIN:VTIMEZONE
TZID:Europe/Zurich
BEGIN:DAYLIGHT
DTSTART:20240425T114500
TZNAME:CEST
TZOFFSETTO:+0200
TZOFFSETFROM:+0200
END:DAYLIGHT
END:VTIMEZONE
END:VCALENDAR
