BEGIN:VCALENDAR
PRODID:-//eluceo/ical//2.0/EN
VERSION:2.0
CALSCALE:GREGORIAN
BEGIN:VEVENT
UID:c361462d58d37fcbb3420a6835071b96
DTSTAMP:20260419T175531Z
SUMMARY:Lunch mit Referat  -  Benno Scherrer\, Präsident der Sekundarschul
 pflege Uster  -  Schule heute
DESCRIPTION:Site internet: http://www.wallberg.ch\nConférencier(s): Benno 
 Scherrer\, Präsident der Sekundarschulpflege Uster
URL:https://rotaryvolketswil.ch/fr/agenda/show/167192
DTSTART;TZID=Europe/Zurich:20240418T114500
DTEND;TZID=Europe/Zurich:20240418T133000
LOCATION:Parkhotel Wallberg\, Eichholzstrasse 1\, 8604 Volketswil
CATEGORIES:Rotary
END:VEVENT
BEGIN:VTIMEZONE
TZID:Europe/Zurich
BEGIN:DAYLIGHT
DTSTART:20240418T114500
TZNAME:CEST
TZOFFSETTO:+0200
TZOFFSETFROM:+0200
END:DAYLIGHT
END:VTIMEZONE
END:VCALENDAR
