BEGIN:VCALENDAR
PRODID:-//eluceo/ical//2.0/EN
VERSION:2.0
CALSCALE:GREGORIAN
BEGIN:VEVENT
UID:8056a847e0dc230756b3af8ccb2b1ee3
DTSTAMP:20260422T073710Z
SUMMARY:Vollmond-Apéro (Full Buck Moon)
DESCRIPTION:Wir treffen uns je nach Wetter auf der Terrasse oder in der Bar
 .\n\n \n\nUnd was meint space.com (https://www.space.com/39238-full-moon-
 names.html):\n\nJuly 16: Full Buck Moon\n\n2138 GMT = 2338 CEST Volketswil
 \n\nThis month is when the new antlers of buck deer push out from their fo
 reheads in coatings of velvety fur. The moon was also called the Full Thun
 der Moon\, thunderstorms now being most frequent. Sometimes it's also call
 ed the Full Hay Moon. There will also be a Partial Lunar Eclipse that will
  be visible primarily from most of Africa\, Eastern Europe and western Asi
 a. At maximum eclipse\, the upper two-thirds of the moon's disk will be im
 mersed in Earth's dark umbral shadow. 
URL:https://rotaryvolketswil.ch/en/agenda/show/100127
DTSTART;TZID=Europe/Zurich:20190716T180000
DTEND;TZID=Europe/Zurich:20190716T190000
LOCATION:Parkhotel Wallberg\, Eichholzstrasse 1\, 8604 Volketswil 
CATEGORIES:Rotary
END:VEVENT
BEGIN:VTIMEZONE
TZID:Europe/Zurich
BEGIN:DAYLIGHT
DTSTART:20190716T180000
TZNAME:CEST
TZOFFSETTO:+0200
TZOFFSETFROM:+0200
END:DAYLIGHT
END:VTIMEZONE
END:VCALENDAR
