BEGIN:VCALENDAR
PRODID:-//eluceo/ical//2.0/EN
VERSION:2.0
CALSCALE:GREGORIAN
BEGIN:VEVENT
UID:e4585242c9f9f2166f93e86981c3b5e3
DTSTAMP:20260423T125702Z
SUMMARY:ZPG Planungsgruppe Glattal / Benno Hüppi
DESCRIPTION:"Das Glattal zählt zu den dynamischen Regionen der Schweiz. Se
 it über 20 Jahren nimmt die Zahl der Bevölkerung und der Beschäftigten 
 überdurchschnittlich zu. Auch für die kommenden 20 Jahre wird ein Wachst
 um erwartet. Durch gezielte Lenkung wir eine geordnete und attraktive Entw
 icklung angestrebt." Die Einleitung zum Leitbild verspricht schon sehr vie
 les. Ein interessanter Ausbklick von Rotarier Benno Hüppi zu unserem Lunc
 h.\nReferenten/innen: Rotarier Benno Hüppi (Präsident ZPG)
URL:https://rotaryvolketswil.ch/de/agenda/show/43860
DTSTART;TZID=Europe/Zurich:20141023T120000
DTEND;TZID=Europe/Zurich:20141023T120000
LOCATION:Gasthof Sternen Wangen bei Dübendorf 
CATEGORIES:Rotary
END:VEVENT
BEGIN:VTIMEZONE
TZID:Europe/Zurich
BEGIN:DAYLIGHT
DTSTART:20141023T120000
TZNAME:CEST
TZOFFSETTO:+0200
TZOFFSETFROM:+0200
END:DAYLIGHT
END:VTIMEZONE
END:VCALENDAR
