BEGIN:VCALENDAR
PRODID:-//eluceo/ical//2.0/EN
VERSION:2.0
CALSCALE:GREGORIAN
BEGIN:VEVENT
UID:749a9888c89d30471b2b6e95fd33a785
DTSTAMP:20260421T140055Z
SUMMARY:Unser neuer Gastgeber
DESCRIPTION:Herr Brunner\, unser neuer Gastgeber des RCV\, stellt sich selb
 st vor\nReferenten/innen: Frau / Herr Brunner stellen sich vor
URL:https://rotaryvolketswil.ch/de/agenda/show/37520
DTSTART;TZID=Europe/Zurich:20140123T120000
DTEND;TZID=Europe/Zurich:20140123T120000
LOCATION:Rest. Sternen\, Wangen
CATEGORIES:Rotary
END:VEVENT
BEGIN:VTIMEZONE
TZID:Europe/Zurich
BEGIN:STANDARD
DTSTART:20140123T120000
TZNAME:CET
TZOFFSETTO:+0100
TZOFFSETFROM:+0100
END:STANDARD
END:VTIMEZONE
END:VCALENDAR
