BEGIN:VCALENDAR
PRODID:-//eluceo/ical//2.0/EN
VERSION:2.0
CALSCALE:GREGORIAN
BEGIN:VEVENT
UID:9bc11f78c1020f689d4c209129f72945
DTSTAMP:20260421T102901Z
SUMMARY:Vollmond-Apéro in der Fyrabiglounge
DESCRIPTION:Wegen Umbaus des Wallbergs\, findet der Vollmondapéro regelmä
 ssig bei der Familie Arter in Volketswil statt.\n\nDie bewährte Fyrabiglo
 unge wird unser Vollmondtreffpunkt sein\nReferenten/innen: Vollmondapéro 
  ab 18:00 bei Rot. Heiri Arter
URL:https://rotaryvolketswil.ch/de/agenda/show/37519
DTSTART;TZID=Europe/Zurich:20140116T180000
DTEND;TZID=Europe/Zurich:20140116T180000
LOCATION:Fyrabiglounge bei Arter`s in Volketswil
CATEGORIES:Rotary
END:VEVENT
BEGIN:VTIMEZONE
TZID:Europe/Zurich
BEGIN:STANDARD
DTSTART:20140116T180000
TZNAME:CET
TZOFFSETTO:+0100
TZOFFSETFROM:+0100
END:STANDARD
END:VTIMEZONE
END:VCALENDAR
