BEGIN:VCALENDAR
PRODID:-//eluceo/ical//2.0/EN
VERSION:2.0
CALSCALE:GREGORIAN
BEGIN:VEVENT
UID:21f63ab31e4b8b9e0bd18bdf97c4aceb
DTSTAMP:20260421T104919Z
SUMMARY:Die neue Ausrichtung der Greifensee-Stiftung
DESCRIPTION:Webseite: http://www.wallberg.ch\nReferenten/innen: Anja Witte\
 , Geschäftsführerin
URL:https://rotaryvolketswil.ch/de/agenda/show/209224
DTSTART;TZID=Europe/Zurich:20260226T114500
DTEND;TZID=Europe/Zurich:20260226T133000
LOCATION:Parkhotel Wallberg\, Eichholzstrasse 1\, 8604 Volketswil
CATEGORIES:Rotary
END:VEVENT
BEGIN:VTIMEZONE
TZID:Europe/Zurich
BEGIN:STANDARD
DTSTART:20260226T114500
TZNAME:CET
TZOFFSETTO:+0100
TZOFFSETFROM:+0100
END:STANDARD
END:VTIMEZONE
END:VCALENDAR
