BEGIN:VCALENDAR
PRODID:-//eluceo/ical//2.0/EN
VERSION:2.0
CALSCALE:GREGORIAN
BEGIN:VEVENT
UID:2b40366967a61d0a425f052e113ca3b7
DTSTAMP:20260421T122249Z
SUMMARY:Jassen und Plaudern
DESCRIPTION:Webseite: http://www.wallberg.ch\nReferenten/innen: Martin Herm
 ann
URL:https://rotaryvolketswil.ch/de/agenda/show/204820
DTSTART;TZID=Europe/Zurich:20260108T190000
DTEND;TZID=Europe/Zurich:20260108T220000
LOCATION:Parkhotel Wallberg\, Eichholzstrasse 1\, 8604 Volketswil
CATEGORIES:Rotary
END:VEVENT
BEGIN:VTIMEZONE
TZID:Europe/Zurich
BEGIN:STANDARD
DTSTART:20260108T190000
TZNAME:CET
TZOFFSETTO:+0100
TZOFFSETFROM:+0100
END:STANDARD
END:VTIMEZONE
END:VCALENDAR
