BEGIN:VCALENDAR
PRODID:-//eluceo/ical//2.0/EN
VERSION:2.0
CALSCALE:GREGORIAN
BEGIN:VEVENT
UID:ddce0c74f6c4f4f4b620740e07e3efc5
DTSTAMP:20260421T135439Z
SUMMARY:Vollmond-Apéro
DESCRIPTION:Webseite: http://www.wallberg.ch
URL:https://rotaryvolketswil.ch/de/agenda/show/202418
DTSTART;TZID=Europe/Zurich:20251205T180000
DTEND;TZID=Europe/Zurich:20251205T190000
LOCATION:Parkhotel Wallberg\, Eichholzstrasse 1\, 8604 Volketswil
CATEGORIES:Rotary
END:VEVENT
BEGIN:VTIMEZONE
TZID:Europe/Zurich
BEGIN:STANDARD
DTSTART:20251205T180000
TZNAME:CET
TZOFFSETTO:+0100
TZOFFSETFROM:+0100
END:STANDARD
END:VTIMEZONE
END:VCALENDAR
