BEGIN:VCALENDAR
PRODID:-//eluceo/ical//2.0/EN
VERSION:2.0
CALSCALE:GREGORIAN
BEGIN:VEVENT
UID:af2b1a78abbc8d458313845b05e0fbf6
DTSTAMP:20260421T122053Z
SUMMARY:Klassifikationsvortrag Stefan Baumgartner
DESCRIPTION:Webseite: http://www.wallberg.ch\nReferenten/innen: RT Stefan B
 aumgartner
URL:https://rotaryvolketswil.ch/de/agenda/show/202388
DTSTART;TZID=Europe/Zurich:20251023T114500
DTEND;TZID=Europe/Zurich:20251023T133000
LOCATION:Parkhotel Wallberg\, Eichholzstrasse 1\, 8604 Volketswil
CATEGORIES:Rotary
END:VEVENT
BEGIN:VTIMEZONE
TZID:Europe/Zurich
BEGIN:DAYLIGHT
DTSTART:20251023T114500
TZNAME:CEST
TZOFFSETTO:+0200
TZOFFSETFROM:+0200
END:DAYLIGHT
END:VTIMEZONE
END:VCALENDAR
