BEGIN:VCALENDAR
PRODID:-//eluceo/ical//2.0/EN
VERSION:2.0
CALSCALE:GREGORIAN
BEGIN:VEVENT
UID:cae186fc93f6dfd1b574cf2915fc8fdd
DTSTAMP:20260421T135903Z
SUMMARY:Vorstellung Förderverein für Kinder mit seltenen Krankheiten
DESCRIPTION:Webseite: http://www.wallberg.ch\nReferenten/innen: Michelle Si
 eber
URL:https://rotaryvolketswil.ch/de/agenda/show/202325
DTSTART;TZID=Europe/Zurich:20251127T114500
DTEND;TZID=Europe/Zurich:20251127T133000
LOCATION:Parkhotel Wallberg\, Eichholzstrasse 1\, 8604 Volketswil
CATEGORIES:Rotary
END:VEVENT
BEGIN:VTIMEZONE
TZID:Europe/Zurich
BEGIN:STANDARD
DTSTART:20251127T114500
TZNAME:CET
TZOFFSETTO:+0100
TZOFFSETFROM:+0100
END:STANDARD
END:VTIMEZONE
END:VCALENDAR
