BEGIN:VCALENDAR
PRODID:-//eluceo/ical//2.0/EN
VERSION:2.0
CALSCALE:GREGORIAN
BEGIN:VEVENT
UID:21104df184457a9f3e56e674cf5523e6
DTSTAMP:20260421T123658Z
SUMMARY:Freundschaftslunch beim ROTARY Club Illnau-Effretikon
DESCRIPTION:Webseite: https://rotary-ie.ch/de/
URL:https://rotaryvolketswil.ch/de/agenda/show/196746
DTSTART;TZID=Europe/Zurich:20250725T114500
DTEND;TZID=Europe/Zurich:20250725T133000
LOCATION:Standort noch nicht bekannt
CATEGORIES:Rotary
END:VEVENT
BEGIN:VTIMEZONE
TZID:Europe/Zurich
BEGIN:DAYLIGHT
DTSTART:20250725T114500
TZNAME:CEST
TZOFFSETTO:+0200
TZOFFSETFROM:+0200
END:DAYLIGHT
END:VTIMEZONE
END:VCALENDAR
