BEGIN:VCALENDAR
PRODID:-//eluceo/ical//2.0/EN
VERSION:2.0
CALSCALE:GREGORIAN
BEGIN:VEVENT
UID:9175a607f70d6a00aaee903339c1ff1a
DTSTAMP:20260423T195336Z
SUMMARY:Vollmond-Apéro
DESCRIPTION:Webseite: http://www.wallberg.ch\nReferenten/innen: 
URL:https://rotaryvolketswil.ch/de/agenda/show/173814
DTSTART;TZID=Europe/Zurich:20240125T180000
DTEND;TZID=Europe/Zurich:20240125T190000
LOCATION:Parkhotel Wallberg\, Eichholzstrasse 1\, 8604 Volketswil
CATEGORIES:Rotary
END:VEVENT
BEGIN:VTIMEZONE
TZID:Europe/Zurich
BEGIN:STANDARD
DTSTART:20240125T180000
TZNAME:CET
TZOFFSETTO:+0100
TZOFFSETFROM:+0100
END:STANDARD
END:VTIMEZONE
END:VCALENDAR
