BEGIN:VCALENDAR
PRODID:-//eluceo/ical//2.0/EN
VERSION:2.0
CALSCALE:GREGORIAN
BEGIN:VEVENT
UID:768695ecef0e45a9cb0b4ed9aa513ad3
DTSTAMP:20260423T164944Z
SUMMARY:Kein Lunch
DESCRIPTION:Webseite: http://www.wallberg.ch
URL:https://rotaryvolketswil.ch/de/agenda/show/160162
DTSTART;TZID=Europe/Zurich:20231228T114500
DTEND;TZID=Europe/Zurich:20231228T133000
LOCATION:Parkhotel Wallberg\, Eichholzstrasse 1\, 8604 Volketswil
CATEGORIES:Rotary
END:VEVENT
BEGIN:VTIMEZONE
TZID:Europe/Zurich
BEGIN:STANDARD
DTSTART:20231228T114500
TZNAME:CET
TZOFFSETTO:+0100
TZOFFSETFROM:+0100
END:STANDARD
END:VTIMEZONE
END:VCALENDAR
