BEGIN:VCALENDAR
PRODID:-//eluceo/ical//2.0/EN
VERSION:2.0
CALSCALE:GREGORIAN
BEGIN:VEVENT
UID:b3678a54cd86b6ca68ddc774b1f3618c
DTSTAMP:20260423T235300Z
SUMMARY:Referat: Wie funktionieren Teams?
DESCRIPTION:Webseite: http://www.wallberg.ch\nReferenten/innen: Monika Kell
 er 
URL:https://rotaryvolketswil.ch/de/agenda/show/159393
DTSTART;TZID=Europe/Zurich:20230622T114500
DTEND;TZID=Europe/Zurich:20230622T134500
LOCATION:Parkhotel Wallberg\, Eichholzstrasse 1\, 8604 Volketswil
CATEGORIES:Rotary
END:VEVENT
BEGIN:VTIMEZONE
TZID:Europe/Zurich
BEGIN:DAYLIGHT
DTSTART:20230622T114500
TZNAME:CEST
TZOFFSETTO:+0200
TZOFFSETFROM:+0200
END:DAYLIGHT
END:VTIMEZONE
END:VCALENDAR
