BEGIN:VCALENDAR
PRODID:-//eluceo/ical//2.0/EN
VERSION:2.0
CALSCALE:GREGORIAN
BEGIN:VEVENT
UID:f07f659ae01e8065c7063b67f2c58cf7
DTSTAMP:20260424T143041Z
SUMMARY:Vollmond-Apéro
DESCRIPTION:Web stranica: http://www.wallberg.ch
URL:https://rotaryvolketswil.ch/bs/agenda/show/211092
DTSTART;TZID=Europe/Zurich:20260630T180000
DTEND;TZID=Europe/Zurich:20260630T190000
LOCATION:Parkhotel Wallberg\, Eichholzstrasse 1\, 8604 Volketswil
CATEGORIES:Rotary
END:VEVENT
BEGIN:VTIMEZONE
TZID:Europe/Zurich
BEGIN:DAYLIGHT
DTSTART:20260630T180000
TZNAME:CEST
TZOFFSETTO:+0200
TZOFFSETFROM:+0200
END:DAYLIGHT
END:VTIMEZONE
END:VCALENDAR
